BEGIN:VCALENDAR
VERSION:2.0
PRODID:-//Die Wachstumsfuge - ECPv5.16.3.1//NONSGML v1.0//EN
CALSCALE:GREGORIAN
METHOD:PUBLISH
X-ORIGINAL-URL:https://wachstumsfuge.de
X-WR-CALDESC:Events for Die Wachstumsfuge
REFRESH-INTERVAL;VALUE=DURATION:PT1H
X-Robots-Tag:noindex
X-PUBLISHED-TTL:PT1H
BEGIN:VTIMEZONE
TZID:Europe/Berlin
BEGIN:DAYLIGHT
TZOFFSETFROM:+0100
TZOFFSETTO:+0200
TZNAME:CEST
DTSTART:20220327T010000
END:DAYLIGHT
BEGIN:STANDARD
TZOFFSETFROM:+0200
TZOFFSETTO:+0100
TZNAME:CET
DTSTART:20221030T010000
END:STANDARD
END:VTIMEZONE
BEGIN:VEVENT
DTSTART;TZID=Europe/Berlin:20220916T114500
DTEND;TZID=Europe/Berlin:20220916T123000
DTSTAMP:20260425T025847
CREATED:20220916T094502Z
LAST-MODIFIED:20220917T102601Z
UID:1160-1663328700-1663331400@wachstumsfuge.de
SUMMARY:Sang\, Klang & Entspannung für Schwangere | ab 14.10.22
DESCRIPTION:Die singklingende\, entspannende und kraftspendende musikalische Mittagspause für werdende Mütter immer freitags startet ab dem 14.10.2022 von 11.45h bis 12.30h in den Herbst.\nGönne Dir und Deinem Kind eine singende\, klingende\, sanft bewegende\, achtsame Auszeit zum Akku-Aufladen am Ende der Woche. Jeder Termin am Freitag ist einzeln buchbar. Mehr Infos findest Du hier:\nSang\, Klang & Entspannung für SchwangereFr. 11.45-12.30h – Institut:// Zukunftsmusik (institut-zukunftsmusik.de)
URL:https://wachstumsfuge.de/event/sang-klang-entspannung-fuer-schwangere/
CATEGORIES:Kurse,Workshops
ATTACH;FMTTYPE=image/jpeg:https://wachstumsfuge.de/wp-content/uploads/2022/07/alicia-petresc-c3kzp4azg6g-unsplash-2-scaled.jpg
END:VEVENT
END:VCALENDAR